BEGIN:VCALENDAR
VERSION:2.0
PRODID:-//Sacramento Suns - ECPv6.15.20//NONSGML v1.0//EN
CALSCALE:GREGORIAN
METHOD:PUBLISH
X-WR-CALNAME:Sacramento Suns
X-ORIGINAL-URL:https://sacfooty.com
X-WR-CALDESC:Events for Sacramento Suns
REFRESH-INTERVAL;VALUE=DURATION:PT1H
X-Robots-Tag:noindex
X-PUBLISHED-TTL:PT1H
BEGIN:VTIMEZONE
TZID:America/Los_Angeles
BEGIN:DAYLIGHT
TZOFFSETFROM:-0800
TZOFFSETTO:-0700
TZNAME:PDT
DTSTART:20220313T100000
END:DAYLIGHT
BEGIN:STANDARD
TZOFFSETFROM:-0700
TZOFFSETTO:-0800
TZNAME:PST
DTSTART:20221106T090000
END:STANDARD
BEGIN:DAYLIGHT
TZOFFSETFROM:-0800
TZOFFSETTO:-0700
TZNAME:PDT
DTSTART:20230312T100000
END:DAYLIGHT
BEGIN:STANDARD
TZOFFSETFROM:-0700
TZOFFSETTO:-0800
TZNAME:PST
DTSTART:20231105T090000
END:STANDARD
BEGIN:DAYLIGHT
TZOFFSETFROM:-0800
TZOFFSETTO:-0700
TZNAME:PDT
DTSTART:20240310T100000
END:DAYLIGHT
BEGIN:STANDARD
TZOFFSETFROM:-0700
TZOFFSETTO:-0800
TZNAME:PST
DTSTART:20241103T090000
END:STANDARD
BEGIN:DAYLIGHT
TZOFFSETFROM:-0800
TZOFFSETTO:-0700
TZNAME:PDT
DTSTART:20250309T100000
END:DAYLIGHT
BEGIN:STANDARD
TZOFFSETFROM:-0700
TZOFFSETTO:-0800
TZNAME:PST
DTSTART:20251102T090000
END:STANDARD
END:VTIMEZONE
BEGIN:VEVENT
DTSTART;TZID=America/Los_Angeles:20240713T090000
DTEND;TZID=America/Los_Angeles:20240713T110000
DTSTAMP:20260421T061331
CREATED:20240614T050836Z
LAST-MODIFIED:20240711T181849Z
UID:1122-1720861200-1720868400@sacfooty.com
SUMMARY:Youth Clinic & Rising Suns Family BBQ and Games
DESCRIPTION:More than just a clinic. Join us for a family day with food\, drink and play!  Come learn an exciting sport that is growing in popularity around the world\, and is relatively new to the U.S….It’s called “Footy”! These session will include introductory skill work and drills followed by a scrimmage if numbers allow. Geared towards kids ages 8-12\, however\, kids 5+ encouraged to attend and no experience is necessary. Clinics are free to attendees and always a lot of fun. Bring your friends! \nRegister: https://forms.gle/vDZUc3XKFojAGehE7 \nLearn more: https://sacfooty.com/youth-footy/ \nThe Rising Youth Youth Footy program is made possible by the generous sponsorship of Adamo’s Kitchen. Adamo’s is located in the heart of Midtown Sacramento at 2107 P Street and offers dinner\, pasta making classes\, wine tasting events and catering. For reservations\, events\, classes and more info\, visit their website or call 916-440-9611
URL:https://sacfooty.com/calendar-event/rising-suns-family-bbq-and-games/
LOCATION:Bryte Park\, 425 Todhunter Ave\, Sacramento\, CA\, 95605\, United States
CATEGORIES:Rising Suns,Social
ORGANIZER;CN="Sacramento Australian Football Club":MAILTO:info@sacfooy.com
END:VEVENT
BEGIN:VEVENT
DTSTART;TZID=America/Los_Angeles:20240622T070000
DTEND;TZID=America/Los_Angeles:20240622T080000
DTSTAMP:20260421T061331
CREATED:20240614T030835Z
LAST-MODIFIED:20240614T030835Z
UID:1119-1719039600-1719043200@sacfooty.com
SUMMARY:Rising Suns FREE Youth Clinic
DESCRIPTION:Come learn an exciting sport that is growing in popularity around the world\, and is relatively new to the U.S….It’s called “Footy”! These session will include introductory skill work and drills followed by a scrimmage if numbers allow. Geared towards kids ages 8-12\, however\, kids 5+ encouraged to attend and no experience is necessary. These clinics are free to attendees and always a lot of fun. Bring your friends! \nRegister: https://forms.gle/vDZUc3XKFojAGehE7 \nLearn more: https://sacfooty.com/youth-footy/ \nFREE Youth Footy Clinics made possible by the generous sponsorship of Adamo’s Kitchen. Adamo’s is located in the heart of Midtown Sacramento at 2107 P Street and offers dinner\, pasta making classes\, wine tasting events and catering. For reservations\, events\, classes and more info\, visit their website or call 916-440-9611 \n.
URL:https://sacfooty.com/calendar-event/rising-suns-free-youth-clinic-2/
LOCATION:Bryte Park\, 425 Todhunter Ave\, Sacramento\, CA\, 95605\, United States
CATEGORIES:Rising Suns
ORGANIZER;CN="Sacramento Australian Football Club":MAILTO:info@sacfooy.com
END:VEVENT
BEGIN:VEVENT
DTSTART;TZID=America/Los_Angeles:20240615T070000
DTEND;TZID=America/Los_Angeles:20240615T080000
DTSTAMP:20260421T061331
CREATED:20240614T030407Z
LAST-MODIFIED:20240614T030407Z
UID:1116-1718434800-1718438400@sacfooty.com
SUMMARY:Rising Suns FREE Youth Clinic
DESCRIPTION:Come learn an exciting sport that is growing in popularity around the world\, and is relatively new to the U.S….It’s called “Footy”! These session will include introductory skill work and drills followed by a scrimmage if numbers allow. Geared towards kids ages 8-12\, however\, kids 5+ encouraged to attend and no experience is necessary. These clinics are free to attendees and always a lot of fun. Bring your friends! \nRegister: https://forms.gle/vDZUc3XKFojAGehE7 \nLearn more: https://sacfooty.com/youth-footy/ \nFREE Youth Footy Clinics made possible by the generous sponsorship of Adamo’s Kitchen. Adamo’s is located in the heart of Midtown Sacramento at 2107 P Street and offers dinner\, pasta making classes\, wine tasting events and catering. For reservations\, events\, classes and more info\, visit their website or call 916-440-9611.
URL:https://sacfooty.com/calendar-event/rising-suns-free-youth-clinic/
LOCATION:Bryte Park\, 425 Todhunter Ave\, Sacramento\, CA\, 95605\, United States
CATEGORIES:Rising Suns
ORGANIZER;CN="Sacramento Australian Football Club":MAILTO:info@sacfooy.com
END:VEVENT
BEGIN:VEVENT
DTSTART;TZID=America/Los_Angeles:20230617T073000
DTEND;TZID=America/Los_Angeles:20230617T083000
DTSTAMP:20260421T061331
CREATED:20230503T222529Z
LAST-MODIFIED:20230503T222617Z
UID:798-1686987000-1686990600@sacfooty.com
SUMMARY:Rising Suns Youth Footy Clinic
DESCRIPTION:The Rising Suns Youth Footy Clinics are FREE to all youth players interested in learning more about Australian Rules Football (also known as “Footy” or “Ausball”). During the youth clinics\, we will teach the basics of the game (a modified tag version of the sport). More dates for youth footy clinics will be added throughout the year\, so keep an eye out for future clinics as well!
URL:https://sacfooty.com/calendar-event/rising-suns-youth-footy-clinic-8/
LOCATION:North Natomas Community Park\, 1867 Cagney Way\, Sacramento\, 95835\, United States
CATEGORIES:Rising Suns
ORGANIZER;CN="Sacramento Australian Football Club":MAILTO:info@sacfooy.com
END:VEVENT
BEGIN:VEVENT
DTSTART;TZID=America/Los_Angeles:20230610T073000
DTEND;TZID=America/Los_Angeles:20230610T083000
DTSTAMP:20260421T061331
CREATED:20230503T222442Z
LAST-MODIFIED:20230503T222521Z
UID:796-1686382200-1686385800@sacfooty.com
SUMMARY:Rising Suns Youth Footy Clinic
DESCRIPTION:The Rising Suns Youth Footy Clinics are FREE to all youth players interested in learning more about Australian Rules Football (also known as “Footy” or “Ausball”). During the youth clinics\, we will teach the basics of the game (a modified tag version of the sport). More dates for youth footy clinics will be added throughout the year\, so keep an eye out for future clinics as well!
URL:https://sacfooty.com/calendar-event/rising-suns-youth-footy-clinic-7/
LOCATION:North Natomas Community Park\, 1867 Cagney Way\, Sacramento\, 95835\, United States
CATEGORIES:Rising Suns
ORGANIZER;CN="Sacramento Australian Football Club":MAILTO:info@sacfooy.com
END:VEVENT
BEGIN:VEVENT
DTSTART;TZID=America/Los_Angeles:20230520T080000
DTEND;TZID=America/Los_Angeles:20230520T090000
DTSTAMP:20260421T061331
CREATED:20230503T222240Z
LAST-MODIFIED:20230503T222435Z
UID:794-1684569600-1684573200@sacfooty.com
SUMMARY:Rising Suns Youth Footy Clinic
DESCRIPTION:The Rising Suns Youth Footy Clinics are FREE to all youth players interested in learning more about Australian Rules Football (also known as “Footy” or “Ausball”). During the youth clinics\, we will teach the basics of the game (a modified tag version of the sport). More dates for youth footy clinics will be added throughout the year\, so keep an eye out for future clinics as well!
URL:https://sacfooty.com/calendar-event/rising-suns-youth-footy-clinic-6/
LOCATION:North Natomas Community Park\, 1867 Cagney Way\, Sacramento\, 95835\, United States
CATEGORIES:Rising Suns
ORGANIZER;CN="Sacramento Australian Football Club":MAILTO:info@sacfooy.com
END:VEVENT
BEGIN:VEVENT
DTSTART;TZID=America/Los_Angeles:20230513T080000
DTEND;TZID=America/Los_Angeles:20230513T090000
DTSTAMP:20260421T061331
CREATED:20230503T222111Z
LAST-MODIFIED:20230503T222209Z
UID:792-1683964800-1683968400@sacfooty.com
SUMMARY:Rising Suns Youth Footy Clinic
DESCRIPTION:The Rising Suns Youth Footy Clinics are FREE to all youth players interested in learning more about Australian Rules Football (also known as “Footy” or “Ausball”). During the youth clinics\, we will teach the basics of the game (a modified tag version of the sport). More dates for youth footy clinics will be added throughout the year\, so keep an eye out for future clinics as well!
URL:https://sacfooty.com/calendar-event/rising-suns-youth-footy-clinic-5/
LOCATION:North Natomas Community Park\, 1867 Cagney Way\, Sacramento\, 95835\, United States
CATEGORIES:Rising Suns
ORGANIZER;CN="Sacramento Australian Football Club":MAILTO:info@sacfooy.com
END:VEVENT
BEGIN:VEVENT
DTSTART;TZID=America/Los_Angeles:20230408T120000
DTEND;TZID=America/Los_Angeles:20230408T140000
DTSTAMP:20260421T061331
CREATED:20230127T233748Z
LAST-MODIFIED:20230127T233748Z
UID:673-1680955200-1680962400@sacfooty.com
SUMMARY:Rising Suns Youth Footy Clinic
DESCRIPTION:The Rising Suns Youth Footy Clinics are FREE to all youth players interested in learning more about Australian Rules Football (also known as “Footy” or “Ausball”). During the youth clinics\, we will teach the basics of the game (a modified tag version of the sport). More dates for youth footy clinics will be added throughout the year\, so keep an eye out for future clinics as well! Please register using this link: https://forms.gle/rykAKa2k9kwcqxHg6
URL:https://sacfooty.com/calendar-event/rising-suns-youth-footy-clinic-4/
LOCATION:North Natomas Community Park\, 1867 Cagney Way\, Sacramento\, 95835\, United States
CATEGORIES:Rising Suns
ORGANIZER;CN="Sacramento Australian Football Club":MAILTO:info@sacfooy.com
END:VEVENT
BEGIN:VEVENT
DTSTART;TZID=America/Los_Angeles:20230325T120000
DTEND;TZID=America/Los_Angeles:20230325T140000
DTSTAMP:20260421T061331
CREATED:20230127T230619Z
LAST-MODIFIED:20230127T230619Z
UID:669-1679745600-1679752800@sacfooty.com
SUMMARY:Rising Suns Youth Footy Clinic
DESCRIPTION:The Rising Suns Youth Footy Clinics are FREE to all youth players interested in learning more about Australian Rules Football (also known as “Footy” or “Ausball”). During the youth clinics\, we will teach the basics of the game (a modified tag version of the sport). More dates for youth footy clinics will be added throughout the year\, so keep an eye out for future clinics as well! Please register using this link: https://forms.gle/rykAKa2k9kwcqxHg6
URL:https://sacfooty.com/calendar-event/rising-suns-youth-footy-clinic-3/
LOCATION:North Natomas Community Park\, 1867 Cagney Way\, Sacramento\, 95835\, United States
CATEGORIES:Rising Suns
ORGANIZER;CN="Sacramento Australian Football Club":MAILTO:info@sacfooy.com
END:VEVENT
BEGIN:VEVENT
DTSTART;TZID=America/Los_Angeles:20230311T120000
DTEND;TZID=America/Los_Angeles:20230311T140000
DTSTAMP:20260421T061331
CREATED:20230127T230313Z
LAST-MODIFIED:20230127T230313Z
UID:667-1678536000-1678543200@sacfooty.com
SUMMARY:Rising Suns Youth Footy Clinic
DESCRIPTION:The Rising Suns Youth Footy Clinics are FREE to all youth players interested in learning more about Australian Rules Football (also known as “Footy” or “Ausball”). During the youth clinics\, we will teach the basics of the game (a modified tag version of the sport). More dates for youth footy clinics will be added throughout the year\, so keep an eye out for future clinics as well! Please register using this link: https://forms.gle/rykAKa2k9kwcqxHg6
URL:https://sacfooty.com/calendar-event/rising-suns-youth-footy-clinic-2/
LOCATION:North Natomas Community Park\, 1867 Cagney Way\, Sacramento\, 95835\, United States
CATEGORIES:Rising Suns
ORGANIZER;CN="Sacramento Australian Football Club":MAILTO:info@sacfooy.com
END:VEVENT
BEGIN:VEVENT
DTSTART;TZID=America/Los_Angeles:20230225T120000
DTEND;TZID=America/Los_Angeles:20230225T130000
DTSTAMP:20260421T061331
CREATED:20230127T225002Z
LAST-MODIFIED:20230220T183854Z
UID:664-1677326400-1677330000@sacfooty.com
SUMMARY:Rising Suns Youth Footy Clinic
DESCRIPTION:The Rising Suns Youth Footy Clinics are FREE to all youth players interested in learning more about Australian Rules Football (also known as “Footy” or “Ausball”). During the youth clinics\, we will teach the basics of the game (a modified tag version of the sport). More dates for youth footy clinics will be added throughout the year\, so keep an eye out for future clinics as well! Please register using this link: https://forms.gle/rykAKa2k9kwcqxHg6
URL:https://sacfooty.com/calendar-event/rising-suns-youth-footy-clinic/
LOCATION:North Natomas Community Park\, 1867 Cagney Way\, Sacramento\, 95835\, United States
CATEGORIES:Rising Suns
ORGANIZER;CN="Sacramento Australian Football Club":MAILTO:info@sacfooy.com
END:VEVENT
END:VCALENDAR